BEGIN:VCALENDAR
VERSION:2.0
PRODID:-//COPAS of Oklahoma City - ECPv6.15.16//NONSGML v1.0//EN
CALSCALE:GREGORIAN
METHOD:PUBLISH
X-WR-CALNAME:COPAS of Oklahoma City
X-ORIGINAL-URL:https://copasokc.org
X-WR-CALDESC:Events for COPAS of Oklahoma City
REFRESH-INTERVAL;VALUE=DURATION:PT1H
X-Robots-Tag:noindex
X-PUBLISHED-TTL:PT1H
BEGIN:VTIMEZONE
TZID:America/Chicago
BEGIN:DAYLIGHT
TZOFFSETFROM:-0600
TZOFFSETTO:-0500
TZNAME:CDT
DTSTART:20250309T080000
END:DAYLIGHT
BEGIN:STANDARD
TZOFFSETFROM:-0500
TZOFFSETTO:-0600
TZNAME:CST
DTSTART:20251102T070000
END:STANDARD
BEGIN:DAYLIGHT
TZOFFSETFROM:-0600
TZOFFSETTO:-0500
TZNAME:CDT
DTSTART:20260308T080000
END:DAYLIGHT
BEGIN:STANDARD
TZOFFSETFROM:-0500
TZOFFSETTO:-0600
TZNAME:CST
DTSTART:20261101T070000
END:STANDARD
BEGIN:DAYLIGHT
TZOFFSETFROM:-0600
TZOFFSETTO:-0500
TZNAME:CDT
DTSTART:20270314T080000
END:DAYLIGHT
BEGIN:STANDARD
TZOFFSETFROM:-0500
TZOFFSETTO:-0600
TZNAME:CST
DTSTART:20271107T070000
END:STANDARD
END:VTIMEZONE
BEGIN:VEVENT
DTSTART;TZID=America/Chicago:20260224T113000
DTEND;TZID=America/Chicago:20260224T130000
DTSTAMP:20260424T154110
CREATED:20260128T192619Z
LAST-MODIFIED:20260128T192755Z
UID:10000049-1771932600-1771938000@copasokc.org
SUMMARY:February 2026 - Lunch Meeting
DESCRIPTION:SOCIETY MEETING \n11:30am – 1pm \nTechnical Speaker + Lunch \nSpeaker: Fred Gipson \nBio: \nUntil recently\, Fred Gipson was Lead Counsel – Commercial Litigation\, at Chesapeake Energy Corporation\, a publicly traded oil and gas company based in Oklahoma City\, Oklahoma. He attended the University of Oklahoma and graduated with a B.B.A. degree in 1986 and a law degree in 1990. He was admitted to the Oklahoma Bar that same year. \nBefore joining Chesapeake in September of 2002\, Gipson worked for nine years as an attorney for the Oklahoma City law firm of Crowe & Dunvley. During his tenure at Crowe & Dunlvey\, Gipson’s practice was concentrated in the area of civil litigation\, with an emphasis on oil and gas and commercial litigation. Gipson also worked three years as an in-house attorney for the University of Oklahoma\, where he handled litigation filed by and against the University. \nGipson retired from Chesapeake in 2024 and is now in private practice handling primarily oil and gas related litigation.
URL:https://copasokc.org/event/february-2026-lunch-meeting/
LOCATION:Embassy Suites – Downtown Medical Center\, 714 N. Phillips Ave\, OKC\, OK\, 73014\, United States
GEO:35.4744213;-97.4989294
X-APPLE-STRUCTURED-LOCATION;VALUE=URI;X-ADDRESS=Embassy Suites – Downtown Medical Center 714 N. Phillips Ave OKC OK 73014 United States;X-APPLE-RADIUS=500;X-TITLE=714 N. Phillips Ave:geo:-97.4989294,35.4744213
END:VEVENT
BEGIN:VEVENT
DTSTART;TZID=America/Chicago:20260409T160000
DTEND;TZID=America/Chicago:20260409T190000
DTSTAMP:20260424T154110
CREATED:20260327T134926Z
LAST-MODIFIED:20260327T141023Z
UID:10000051-1775750400-1775761200@copasokc.org
SUMMARY:April 2026 - Dinner Meeting
DESCRIPTION:Technical Speaker \nName: Stephen Nelson \nBio:  \nStephen Nelson is the Founder and CEO of Pinpoint Security\, where they help organizations build their digital security — for a safer tomorrow. With more than a decade in IT and cybersecurity leadership and over twenty years of hands-on experience\, he has worked across industries from financial services and energy to education and small business\, helping teams strengthen their defenses and build security programs that work in practice\, not just on paper. Pinpoint Security focuses on managed detection and response (MDR)\, vulnerability management\, penetration testing\, security assessments\, tabletop exercises\, and staff augmentation — all built around the belief that security should enable the mission\, not slow it down. Stephen is a CISSP\, GPEN\, and GSEC-certified professional who enjoys blending strategy\, technology\, and execution to solve complex challenges. Whether it’s designing secure architectures\, leading assessments under CIS and NIST frameworks\, or helping a business recover from an incident\, he is driven by one mission: to make cybersecurity clear\, effective\, and accessible for every organization we serve. \n1 hour of CPE available \nCOMMITTEE MEETINGS\n4pm – 5pm \nAudit / JI \n4pm – 5pm \nRevenue \nSOCIETY MEETING \n5pm – 5:30pm\nNetworking Session / Happy Hour \n5:30pm – 7pm \nTechnical Session & Dinner
URL:https://copasokc.org/event/april-2026-dinner-meeting/
LOCATION:Embassy Suites – Downtown Medical Center\, 714 N. Phillips Ave\, OKC\, OK\, 73014\, United States
ORGANIZER;CN="COPAS OKC":MAILTO:membership@copasokc.org
GEO:35.4744213;-97.4989294
X-APPLE-STRUCTURED-LOCATION;VALUE=URI;X-ADDRESS=Embassy Suites – Downtown Medical Center 714 N. Phillips Ave OKC OK 73014 United States;X-APPLE-RADIUS=500;X-TITLE=714 N. Phillips Ave:geo:-97.4989294,35.4744213
END:VEVENT
BEGIN:VEVENT
DTSTART;TZID=America/Chicago:20260514T113000
DTEND;TZID=America/Chicago:20260514T130000
DTSTAMP:20260424T154110
CREATED:20260416T131130Z
LAST-MODIFIED:20260416T131903Z
UID:10000053-1778758200-1778763600@copasokc.org
SUMMARY:May 2026 - Lunch Meeting
DESCRIPTION:SOCIETY MEETING \n11:30am – 1pm \nTechnical Speaker + Lunch \nSpeaker: Chase Farha \nBio: \nChase Farha is a Research Associate in the Regional Affairs department at the Oklahoma City branch of the Federal Reserve Bank of Kansas City. In this role\, his responsibilities include contributing to the Oklahoma Economist and a variety of research projects. He holds a Bachelor of Science degree in Economics\, with minors in mathematics and Arabic\, from Tulane University.
URL:https://copasokc.org/event/may-2026-lunch-meeting/
LOCATION:Embassy Suites – Downtown Medical Center\, 714 N. Phillips Ave\, OKC\, OK\, 73014\, United States
ORGANIZER;CN="COPAS OKC":MAILTO:membership@copasokc.org
GEO:35.4744213;-97.4989294
X-APPLE-STRUCTURED-LOCATION;VALUE=URI;X-ADDRESS=Embassy Suites – Downtown Medical Center 714 N. Phillips Ave OKC OK 73014 United States;X-APPLE-RADIUS=500;X-TITLE=714 N. Phillips Ave:geo:-97.4989294,35.4744213
END:VEVENT
END:VCALENDAR