BEGIN:VCALENDAR
VERSION:2.0
PRODID:-//COPAS of Oklahoma City - ECPv6.15.16//NONSGML v1.0//EN
CALSCALE:GREGORIAN
METHOD:PUBLISH
X-WR-CALNAME:COPAS of Oklahoma City
X-ORIGINAL-URL:https://copasokc.org
X-WR-CALDESC:Events for COPAS of Oklahoma City
REFRESH-INTERVAL;VALUE=DURATION:PT1H
X-Robots-Tag:noindex
X-PUBLISHED-TTL:PT1H
BEGIN:VTIMEZONE
TZID:America/Chicago
BEGIN:DAYLIGHT
TZOFFSETFROM:-0600
TZOFFSETTO:-0500
TZNAME:CDT
DTSTART:20240310T080000
END:DAYLIGHT
BEGIN:STANDARD
TZOFFSETFROM:-0500
TZOFFSETTO:-0600
TZNAME:CST
DTSTART:20241103T070000
END:STANDARD
BEGIN:DAYLIGHT
TZOFFSETFROM:-0600
TZOFFSETTO:-0500
TZNAME:CDT
DTSTART:20250309T080000
END:DAYLIGHT
BEGIN:STANDARD
TZOFFSETFROM:-0500
TZOFFSETTO:-0600
TZNAME:CST
DTSTART:20251102T070000
END:STANDARD
BEGIN:DAYLIGHT
TZOFFSETFROM:-0600
TZOFFSETTO:-0500
TZNAME:CDT
DTSTART:20260308T080000
END:DAYLIGHT
BEGIN:STANDARD
TZOFFSETFROM:-0500
TZOFFSETTO:-0600
TZNAME:CST
DTSTART:20261101T070000
END:STANDARD
BEGIN:DAYLIGHT
TZOFFSETFROM:-0600
TZOFFSETTO:-0500
TZNAME:CDT
DTSTART:20270314T080000
END:DAYLIGHT
BEGIN:STANDARD
TZOFFSETFROM:-0500
TZOFFSETTO:-0600
TZNAME:CST
DTSTART:20271107T070000
END:STANDARD
END:VTIMEZONE
BEGIN:VEVENT
DTSTART;TZID=America/Chicago:20260409T160000
DTEND;TZID=America/Chicago:20260409T190000
DTSTAMP:20260424T140228
CREATED:20260327T134926Z
LAST-MODIFIED:20260327T141023Z
UID:10000051-1775750400-1775761200@copasokc.org
SUMMARY:April 2026 - Dinner Meeting
DESCRIPTION:Technical Speaker \nName: Stephen Nelson \nBio:  \nStephen Nelson is the Founder and CEO of Pinpoint Security\, where they help organizations build their digital security — for a safer tomorrow. With more than a decade in IT and cybersecurity leadership and over twenty years of hands-on experience\, he has worked across industries from financial services and energy to education and small business\, helping teams strengthen their defenses and build security programs that work in practice\, not just on paper. Pinpoint Security focuses on managed detection and response (MDR)\, vulnerability management\, penetration testing\, security assessments\, tabletop exercises\, and staff augmentation — all built around the belief that security should enable the mission\, not slow it down. Stephen is a CISSP\, GPEN\, and GSEC-certified professional who enjoys blending strategy\, technology\, and execution to solve complex challenges. Whether it’s designing secure architectures\, leading assessments under CIS and NIST frameworks\, or helping a business recover from an incident\, he is driven by one mission: to make cybersecurity clear\, effective\, and accessible for every organization we serve. \n1 hour of CPE available \nCOMMITTEE MEETINGS\n4pm – 5pm \nAudit / JI \n4pm – 5pm \nRevenue \nSOCIETY MEETING \n5pm – 5:30pm\nNetworking Session / Happy Hour \n5:30pm – 7pm \nTechnical Session & Dinner
URL:https://copasokc.org/event/april-2026-dinner-meeting/
LOCATION:Embassy Suites – Downtown Medical Center\, 714 N. Phillips Ave\, OKC\, OK\, 73014\, United States
ORGANIZER;CN="COPAS OKC":MAILTO:membership@copasokc.org
GEO:35.4744213;-97.4989294
X-APPLE-STRUCTURED-LOCATION;VALUE=URI;X-ADDRESS=Embassy Suites – Downtown Medical Center 714 N. Phillips Ave OKC OK 73014 United States;X-APPLE-RADIUS=500;X-TITLE=714 N. Phillips Ave:geo:-97.4989294,35.4744213
END:VEVENT
BEGIN:VEVENT
DTSTART;TZID=America/Chicago:20251027T073000
DTEND;TZID=America/Chicago:20251027T170000
DTSTAMP:20260424T140228
CREATED:20240829T134520Z
LAST-MODIFIED:20251021T132903Z
UID:10000036-1761550200-1761584400@copasokc.org
SUMMARY:2025 COPAS-OKC Golf Tournament - Lincoln Park Golf Course
DESCRIPTION:COPAS-OKC Golf Tournament 2025 \nLincoln Park Golf Course \nAddress: 4001 NE Grand Blvd\, Oklahoma City\, OK 73111 \nMonday\, October 27\, 2025 \n4-Person Scramble \n  \nFor questions\, please contact:\n◻Andrew DeWitt: andrew.dewitt@expandenergy.com\n◻Ali Mallett: ali.mallett@ascentresources.com \nRegistration Deadline: October 20\, 2025 at Noon.
URL:https://copasokc.org/event/2024-copas-okc-golf-tournament-lincoln-park-golf-course/
ORGANIZER;CN="COPAS OKC":MAILTO:membership@copasokc.org
END:VEVENT
BEGIN:VEVENT
DTSTART;TZID=America/Chicago:20250909T160000
DTEND;TZID=America/Chicago:20250909T190000
DTSTAMP:20260424T140228
CREATED:20250825T124248Z
LAST-MODIFIED:20250825T124340Z
UID:10000043-1757433600-1757444400@copasokc.org
SUMMARY:September 2025 - Dinner Meeting
DESCRIPTION:Technical Speaker \nName: Steven Agee\, Ph.D. \nBio:  \nDr. Agee is an economist specializing in energy policy\, banking\, monetary theory\, and macroeconomic policy. Having served in the private sector for thirty years as President and COO of oil and natural gas exploration and production companies\, Dr. Agee has the unique combination of academic and private industry experience to administer\, teach\, design and implement new programs and speaker’s series in the energy field. In addition\, having served six years (2006-2011) on the Board of the Federal Reserve Bank of Kansas City\, Oklahoma City Branch\, the last three as its Chairman\, Dr. Agee has enormous contacts and resources in the banking industry\, and has taught Money & Banking at Oklahoma City University. \nDean Agee is President and COO of Agee Energy\, LLC\, a private oil and natural gas company in downtown Oklahoma City. Prior to forming his own company in 2006\, Dr. Agee served as President and COO of XAE Corporation\, a privately owned oil and gas company\, from 1982 to 2005; and as President and COO of Lee & Agee\, Inc.\, from 1988 to 2006. Dr. Agee joined the Oklahoma City Branch of the Federal Reserve Bank of Kansas City in March 2006. He concluded a six-year stint with the Fed in December 2011\, having served the last three years as Chairman of the Oklahoma City Branch Board. He has served on the Board of Directors for the following organizations and additionally served as President of each Board: The Economic Club of Oklahoma\, Oklahoma City Philharmonic Society\, Petroleum Club of Oklahoma City\, and the Oklahoma Energy Resources Board (OERB)\, the latter for which he served as Chairman for three years. Dr. Agee also served as Director and past Treasurer of the Oklahoma Independent Petroleum Association (OIPA). Dean Agee is currently a member of the Oklahoma City Economic Roundtable and serves on the following Boards of Directors/ Trustees: The Oklahoma City Philharmonic Foundation\, Allied Arts\, and the Oklahoma City Community Foundation (OCCF). Dean Agee is a member of the Fortune Club and is on the Board of El Sistema Oklahoma. \n1 hour of CPE available \nCOMMITTEE MEETINGS\n4pm – 5pm \nAudit / JI \n4pm – 5pm \nRevenue \nSOCIETY MEETING \n5pm – 5:30pm\nNetworking Session / Happy Hour \n5:30pm – 7pm \nTechnical Session & Dinner
URL:https://copasokc.org/event/september-2025-dinner-meeting/
LOCATION:Embassy Suites – Downtown Medical Center\, 714 N. Phillips Ave\, OKC\, OK\, 73014\, United States
ORGANIZER;CN="COPAS OKC":MAILTO:membership@copasokc.org
GEO:35.4744213;-97.4989294
X-APPLE-STRUCTURED-LOCATION;VALUE=URI;X-ADDRESS=Embassy Suites – Downtown Medical Center 714 N. Phillips Ave OKC OK 73014 United States;X-APPLE-RADIUS=500;X-TITLE=714 N. Phillips Ave:geo:-97.4989294,35.4744213
END:VEVENT
BEGIN:VEVENT
DTSTART;TZID=America/Chicago:20250519T113000
DTEND;TZID=America/Chicago:20250519T130000
DTSTAMP:20260424T140228
CREATED:20250428T153731Z
LAST-MODIFIED:20250505T164224Z
UID:10000041-1747654200-1747659600@copasokc.org
SUMMARY:May 2025 - Lunch Meeting
DESCRIPTION:SOCIETY MEETING \n11:30am – 1pm \nTechnical Speaker + Lunch \n“BRING YOUR BOSS” DAY! \nSpeaker: Jeff Wright \nBio: \nJeff is the owner and president of 4A Energy Advisors LLC\, an oil and gas contact compliance firm based in DFW. \nPrior to forming 4A Energy Advisors in July 2007\, Jeff spent the previous 27 years with Oryx Energy Co.\, Union Pacific Resources\, Burlington Resources and ConocoPhillips\, primarily working in the areas of Joint Venture Audit and Joint Venture Audit Coordination. \nJeff has been active in COPAS since 1995 as a member of COPAS of Dallas\, The Petroleum Accountants Society of Canada\, The Petroleum Accountants Society of Ft. Worth and the Petroleum Accountants Society of the Permian Basin. He has held numerous leadership positions in COPAS both locally and nationally. Jeff was the COPAS National Audit Committee Chair during the period 2009-2011 and again during the period 2019-2020. He currently serves as Co-Chair of the COPAS National Education Committee and was the COPAS National President in 2016. \nIn addition to contract compliance work\, Jeff is often called upon to provide expert witness testimony in oil & gas litigation matters and provides Joint Venture Accounting best practices guidance to clients. He is also an instructor for COPAS Energy Education.
URL:https://copasokc.org/event/may-2025-lunch-meeting/
LOCATION:Embassy Suites – Downtown Medical Center\, 714 N. Phillips Ave\, OKC\, OK\, 73014\, United States
ORGANIZER;CN="COPAS OKC":MAILTO:membership@copasokc.org
GEO:35.4744213;-97.4989294
X-APPLE-STRUCTURED-LOCATION;VALUE=URI;X-ADDRESS=Embassy Suites – Downtown Medical Center 714 N. Phillips Ave OKC OK 73014 United States;X-APPLE-RADIUS=500;X-TITLE=714 N. Phillips Ave:geo:-97.4989294,35.4744213
END:VEVENT
END:VCALENDAR